BEGIN:VCALENDAR
VERSION:2.0
PRODID:-//The Wattingers - ECPv6.15.11//NONSGML v1.0//EN
CALSCALE:GREGORIAN
METHOD:PUBLISH
X-ORIGINAL-URL:https://thewattingers.uk
X-WR-CALDESC:Events for The Wattingers
REFRESH-INTERVAL;VALUE=DURATION:PT1H
X-Robots-Tag:noindex
X-PUBLISHED-TTL:PT1H
BEGIN:VTIMEZONE
TZID:UTC
BEGIN:STANDARD
TZOFFSETFROM:+0000
TZOFFSETTO:+0000
TZNAME:UTC
DTSTART:20240101T000000
END:STANDARD
END:VTIMEZONE
BEGIN:VEVENT
DTSTART;TZID=UTC:20251031T190000
DTEND;TZID=UTC:20251031T233000
DTSTAMP:20260423T225718
CREATED:20251026T085531Z
LAST-MODIFIED:20251026T085601Z
UID:2285-1761937200-1761953400@thewattingers.uk
SUMMARY:Alice’s Wicked Nightmare Ball
DESCRIPTION:Supporting The Pink Diamond Revue
URL:https://thewattingers.uk/gig/alices-wicked-nightmare-ball-bournemouth/
LOCATION:The Underground\, Bournemouth\, 560 Christchurch Road\, Bournemouth\, BH1 4BH\, United Kingdom
END:VEVENT
BEGIN:VEVENT
DTSTART;TZID=UTC:20251115T200000
DTEND;TZID=UTC:20251115T233000
DTSTAMP:20260423T225718
CREATED:20251109T155710Z
LAST-MODIFIED:20251109T155710Z
UID:2290-1763236800-1763249400@thewattingers.uk
SUMMARY:Soapbox Theatre Gin and Music Night
DESCRIPTION:
URL:https://thewattingers.uk/gig/soapbox-theatre-gin-and-music-night/
LOCATION:Soapbox Theatre\, Devonport Park\, Exmouth Rd\, Plymouth\, Devon\, PL1 4HQ\, United Kingdom
END:VEVENT
BEGIN:VEVENT
DTSTART;TZID=UTC:20251129T200000
DTEND;TZID=UTC:20251129T233000
DTSTAMP:20260423T225718
CREATED:20251109T163524Z
LAST-MODIFIED:20251109T163524Z
UID:2293-1764446400-1764459000@thewattingers.uk
SUMMARY:In the Black MidVinter
DESCRIPTION:
URL:https://thewattingers.uk/gig/in-the-black-midvinter/
LOCATION:Samuel Worth Chapel\, The Gatehouse\, Cemetery Avenue\, Sheffield\, S11 8NT\, United Kingdom
END:VEVENT
BEGIN:VEVENT
DTSTART;TZID=UTC:20260103T193000
DTEND;TZID=UTC:20260103T220000
DTSTAMP:20260423T225718
CREATED:20251109T163757Z
LAST-MODIFIED:20251109T163830Z
UID:2297-1767468600-1767477600@thewattingers.uk
SUMMARY:Exeter Cavern\, Supporting El Generico
DESCRIPTION:
URL:https://thewattingers.uk/gig/cavern-exeter-supporting-el-generico/
LOCATION:Exeter Cavern\, Exeter\, United Kingdom
END:VEVENT
BEGIN:VEVENT
DTSTART;TZID=UTC:20260618T190000
DTEND;TZID=UTC:20260618T233000
DTSTAMP:20260423T225718
CREATED:20251109T164211Z
LAST-MODIFIED:20251109T164211Z
UID:2300-1781809200-1781825400@thewattingers.uk
SUMMARY:Sonic Rock Solstice
DESCRIPTION:
URL:https://thewattingers.uk/gig/sonic-rock-solstice-2/
LOCATION:Stoke Prior Sports and Country Club\, Westonhall Road\, Stoke Prior\, B60 4AL\, United Kingdom
END:VEVENT
BEGIN:VEVENT
DTSTART;TZID=UTC:20260717T190000
DTEND;TZID=UTC:20260717T233000
DTSTAMP:20260423T225718
CREATED:20251109T164509Z
LAST-MODIFIED:20251109T164509Z
UID:2303-1784314800-1784331000@thewattingers.uk
SUMMARY:Fantasy Forest (The Wastes)
DESCRIPTION:
URL:https://thewattingers.uk/gig/fantasy-forest-the-wastes/
LOCATION:Sudeley Castle\, Winchcombe\, GL54 5JD\, United Kingdom
END:VEVENT
BEGIN:VEVENT
DTSTART;TZID=UTC:20260808T190000
DTEND;TZID=UTC:20260808T233000
DTSTAMP:20260423T225718
CREATED:20251109T164823Z
LAST-MODIFIED:20251109T164823Z
UID:2305-1786215600-1786231800@thewattingers.uk
SUMMARY:Rebellion Fringe (Horror Bar)
DESCRIPTION:
URL:https://thewattingers.uk/gig/rebellion-fringe-horror-bar/
LOCATION:Scream and Shake Horror Bar\, 33 Birley Street\, Blackpool\, FY1 1EG\, United Kingdom
END:VEVENT
BEGIN:VEVENT
DTSTART;TZID=UTC:20260904T190000
DTEND;TZID=UTC:20260904T230000
DTSTAMP:20260423T225718
CREATED:20251109T165416Z
LAST-MODIFIED:20251109T165416Z
UID:2310-1788548400-1788562800@thewattingers.uk
SUMMARY:Libertalia (Fantasy Forest\, The Wastes)
DESCRIPTION:
URL:https://thewattingers.uk/gig/libertalia-fantasy-forest-the-wastes/
LOCATION:Hatfield House\, Hatfield\, AL9 5HX\, United Kingdom
END:VEVENT
BEGIN:VEVENT
DTSTART;TZID=UTC:20261017T190000
DTEND;TZID=UTC:20261017T233000
DTSTAMP:20260423T225718
CREATED:20251109T165611Z
LAST-MODIFIED:20251109T165611Z
UID:2313-1792263600-1792279800@thewattingers.uk
SUMMARY:Satan's Lair After Party
DESCRIPTION:
URL:https://thewattingers.uk/gig/satans-lair-after-party/
LOCATION:The Ill Repute\, 16 West Street\, Bristol\, BS2 0DF\, United Kingdom
END:VEVENT
END:VCALENDAR