BEGIN:VCALENDAR
VERSION:2.0
PRODID:-//The Wattingers - ECPv6.15.11//NONSGML v1.0//EN
CALSCALE:GREGORIAN
METHOD:PUBLISH
X-WR-CALNAME:The Wattingers
X-ORIGINAL-URL:https://thewattingers.uk
X-WR-CALDESC:Events for The Wattingers
REFRESH-INTERVAL;VALUE=DURATION:PT1H
X-Robots-Tag:noindex
X-PUBLISHED-TTL:PT1H
BEGIN:VTIMEZONE
TZID:UTC
BEGIN:STANDARD
TZOFFSETFROM:+0000
TZOFFSETTO:+0000
TZNAME:UTC
DTSTART:20210101T000000
END:STANDARD
END:VTIMEZONE
BEGIN:VEVENT
DTSTART;TZID=UTC:20240727T193000
DTEND;TZID=UTC:20240727T230000
DTSTAMP:20260423T113349
CREATED:20240604T191539Z
LAST-MODIFIED:20240604T191539Z
UID:2239-1722108600-1722121200@thewattingers.uk
SUMMARY:Nowhere Inn\, Plymouth with Dizzy Missile
DESCRIPTION:
URL:https://thewattingers.uk/gig/nowhere-inn-plymouth-with-dizzy-missile-2/
LOCATION:Nowhere Inn\, 21 Gilwell Street\, Plymouth\, Devon\, PL4 8BU\, United Kingdom
END:VEVENT
BEGIN:VEVENT
DTSTART;TZID=UTC:20240711T080000
DTEND;TZID=UTC:20240714T170000
DTSTAMP:20260423T113349
CREATED:20230821T174217Z
LAST-MODIFIED:20230821T174217Z
UID:2214-1720684800-1720976400@thewattingers.uk
SUMMARY:Rustic Stomp
DESCRIPTION:
URL:https://thewattingers.uk/gig/rustic-stomp/
LOCATION:Pikes Farm\, Organford\, Poole\, United Kingdom
END:VEVENT
BEGIN:VEVENT
DTSTART;TZID=UTC:20240705T120000
DTEND;TZID=UTC:20240707T233000
DTSTAMP:20260423T113349
CREATED:20240207T194256Z
LAST-MODIFIED:20240604T191733Z
UID:2228-1720180800-1720395000@thewattingers.uk
SUMMARY:Goths on a Field
DESCRIPTION:
URL:https://thewattingers.uk/gig/goths-on-a-field-acoustic-set/
LOCATION:Ellesmere
END:VEVENT
BEGIN:VEVENT
DTSTART;TZID=UTC:20240531T120000
DTEND;TZID=UTC:20240601T230000
DTSTAMP:20260423T113349
CREATED:20240117T090902Z
LAST-MODIFIED:20240117T090902Z
UID:2222-1717156800-1717282800@thewattingers.uk
SUMMARY:Alice's Wicked Tea Party
DESCRIPTION:
URL:https://thewattingers.uk/gig/alices-wicked-tea-party-2/
LOCATION:Knolle Farm\, Soldiers Road\, Wareham\, Dorset\, BH20 5DU\, United Kingdom
END:VEVENT
BEGIN:VEVENT
DTSTART;TZID=UTC:20240427T193000
DTEND;TZID=UTC:20240427T230000
DTSTAMP:20260423T113349
CREATED:20240117T090408Z
LAST-MODIFIED:20240207T193610Z
UID:2219-1714246200-1714258800@thewattingers.uk
SUMMARY:The Victoria’s Steampunk Gathering
DESCRIPTION:
URL:https://thewattingers.uk/gig/victoria-bikers-pub/
LOCATION:Victoria Bikers Pub\, Whitwick Road\, Coalville\, Leicester\, LE67 3FA\, United Kingdom
END:VEVENT
BEGIN:VEVENT
DTSTART;TZID=UTC:20240210T193000
DTEND;TZID=UTC:20240210T230000
DTSTAMP:20260423T113349
CREATED:20240117T084620Z
LAST-MODIFIED:20240117T084620Z
UID:2217-1707593400-1707606000@thewattingers.uk
SUMMARY:Nowhere Inn\, Plymouth with Dizzy Missile
DESCRIPTION:
URL:https://thewattingers.uk/gig/nowhere-inn-plymouth-with-dizzy-missile/
LOCATION:Nowhere Inn\, 21 Gilwell Street\, Plymouth\, Devon\, PL4 8BU\, United Kingdom
END:VEVENT
BEGIN:VEVENT
DTSTART;TZID=UTC:20240112T190000
DTEND;TZID=UTC:20240112T220000
DTSTAMP:20260423T113349
CREATED:20230821T173946Z
LAST-MODIFIED:20230821T174003Z
UID:2212-1705086000-1705096800@thewattingers.uk
SUMMARY:Exeter Cavern
DESCRIPTION:
URL:https://thewattingers.uk/gig/exeter-cavern/
LOCATION:Exeter Cavern\, Exeter\, United Kingdom
END:VEVENT
BEGIN:VEVENT
DTSTART;TZID=UTC:20231209T193000
DTEND;TZID=UTC:20231209T233000
DTSTAMP:20260423T113349
CREATED:20230808T070754Z
LAST-MODIFIED:20230808T070754Z
UID:2168-1702150200-1702164600@thewattingers.uk
SUMMARY:Foxlowe Arts Centre
DESCRIPTION:
URL:https://thewattingers.uk/gig/foxlowe-arts-centre/
LOCATION:Foxlowe Arts Centre\, Market Place\, Leek\, ST13 6AD
END:VEVENT
BEGIN:VEVENT
DTSTART;TZID=UTC:20231124T193000
DTEND;TZID=UTC:20231124T233000
DTSTAMP:20260423T113349
CREATED:20230808T070358Z
LAST-MODIFIED:20230808T070358Z
UID:2165-1700854200-1700868600@thewattingers.uk
SUMMARY:In the Black Midwinter
DESCRIPTION:
URL:https://thewattingers.uk/gig/in-the-black-midwinter/
LOCATION:Shakespeares\, 146-148 Gibraltar St\, Sheffield\, S3 8UB\, United Kingdom
END:VEVENT
BEGIN:VEVENT
DTSTART;TZID=UTC:20231117T193000
DTEND;TZID=UTC:20231117T233000
DTSTAMP:20260423T113349
CREATED:20230808T065744Z
LAST-MODIFIED:20230808T065744Z
UID:2162-1700249400-1700263800@thewattingers.uk
SUMMARY:The Clockwork Cabaret\, Stockton Steampunk Festival
DESCRIPTION:
URL:https://thewattingers.uk/gig/the-clockwork-cabaret-stockton-steampunk-festival/
LOCATION:ARC Stockton Arts Centre\, Dovecot Street\, Stockton on Tees\, TS18 1LL\, United Kingdom
END:VEVENT
BEGIN:VEVENT
DTSTART;TZID=UTC:20231104T200000
DTEND;TZID=UTC:20231104T233000
DTSTAMP:20260423T113349
CREATED:20230808T064928Z
LAST-MODIFIED:20230808T064928Z
UID:2158-1699128000-1699140600@thewattingers.uk
SUMMARY:The Ill Repute
DESCRIPTION:
URL:https://thewattingers.uk/gig/the-ill-repute/
LOCATION:The Ill Repute\, 16 West Street\, Bristol\, BS2 0DF\, United Kingdom
END:VEVENT
BEGIN:VEVENT
DTSTART;TZID=UTC:20230902T090000
DTEND;TZID=UTC:20230903T030000
DTSTAMP:20260423T113349
CREATED:20230821T171959Z
LAST-MODIFIED:20230821T171959Z
UID:2208-1693645200-1693710000@thewattingers.uk
SUMMARY:Black Catz
DESCRIPTION:
URL:https://thewattingers.uk/gig/black-catz/
LOCATION:Images Nightclub\, Cornwall Street\, Plymouth
END:VEVENT
BEGIN:VEVENT
DTSTART;TZID=UTC:20230812T110000
DTEND;TZID=UTC:20230813T230000
DTSTAMP:20260423T113349
CREATED:20230808T063021Z
LAST-MODIFIED:20230808T063847Z
UID:2150-1691838000-1691967600@thewattingers.uk
SUMMARY:Steampunk at the Workhouse
DESCRIPTION:
URL:https://thewattingers.uk/gig/steampunk-at-the-workhouse/
LOCATION:Llanfyllin Workhouse\, A490\,\, Llanfyllin\, SY22 5LD\, United Kingdom
END:VEVENT
BEGIN:VEVENT
DTSTART;TZID=UTC:20230720T190000
DTEND;TZID=UTC:20230721T190000
DTSTAMP:20260423T113349
CREATED:20230322T175730Z
LAST-MODIFIED:20230322T175730Z
UID:2078-1689879600-1689966000@thewattingers.uk
SUMMARY:Raising Steam
DESCRIPTION:
URL:https://thewattingers.uk/gig/raising-steam-2/
LOCATION:Stoke Prior Sports and Country Club\, Westonhall Road\, Stoke Prior\, B60 4AL\, United Kingdom
END:VEVENT
BEGIN:VEVENT
DTSTART;TZID=UTC:20230615T190000
DTEND;TZID=UTC:20230618T170000
DTSTAMP:20260423T113349
CREATED:20230322T175249Z
LAST-MODIFIED:20230322T175249Z
UID:2076-1686855600-1687107600@thewattingers.uk
SUMMARY:Sonic Rock Solstice
DESCRIPTION:
URL:https://thewattingers.uk/gig/sonic-rock-solstice/
LOCATION:Stoke Prior Sports and Country Club\, Westonhall Road\, Stoke Prior\, B60 4AL\, United Kingdom
END:VEVENT
BEGIN:VEVENT
DTSTART;TZID=UTC:20230603T190000
DTEND;TZID=UTC:20230603T200000
DTSTAMP:20260423T113349
CREATED:20230322T174515Z
LAST-MODIFIED:20230322T174515Z
UID:2071-1685818800-1685822400@thewattingers.uk
SUMMARY:Alice's Wicked Tea Party
DESCRIPTION:
URL:https://thewattingers.uk/gig/alices-wicked-tea-party/
LOCATION:Knolle Farm\, Soldiers Road\, Wareham\, Dorset\, BH20 5DU\, United Kingdom
END:VEVENT
BEGIN:VEVENT
DTSTART;TZID=UTC:20230409T160000
DTEND;TZID=UTC:20230409T170000
DTSTAMP:20260423T113349
CREATED:20230322T174118Z
LAST-MODIFIED:20230322T174118Z
UID:2068-1681056000-1681059600@thewattingers.uk
SUMMARY:HRH Blues
DESCRIPTION:
URL:https://thewattingers.uk/gig/hrh-blues/
LOCATION:O2 Academy\, 37-43 Arundel Gate\, Sheffield\, S1 2PN\, United Kingdom
END:VEVENT
BEGIN:VEVENT
DTSTART;TZID=UTC:20221015T190000
DTEND;TZID=UTC:20221015T233000
DTSTAMP:20260423T113349
CREATED:20220901T143454Z
LAST-MODIFIED:20220905T123922Z
UID:2051-1665860400-1665876600@thewattingers.uk
SUMMARY:The Wattingers + The Butt Plug Babies at the Cavern\, Exeter
DESCRIPTION:Tickets: https://www.wegottickets.com/event/555991/
URL:https://thewattingers.uk/gig/the-wattingers-at-the-cavern-exeter/
LOCATION:Exeter Cavern\, Exeter\, United Kingdom
END:VEVENT
BEGIN:VEVENT
DTSTART;TZID=UTC:20220813T110000
DTEND;TZID=UTC:20220814T160000
DTSTAMP:20260423T113349
CREATED:20220803T190451Z
LAST-MODIFIED:20220803T190451Z
UID:2048-1660388400-1660492800@thewattingers.uk
SUMMARY:Amberley Steampunk Weekend
DESCRIPTION:
URL:https://thewattingers.uk/gig/amberley-steampunk-weekend/
LOCATION:Amberley Museum\, New Barn Road\, Arundel\, BN18 9LT\, United Kingdom
END:VEVENT
BEGIN:VEVENT
DTSTART;TZID=UTC:20220806T190000
DTEND;TZID=UTC:20220806T233000
DTSTAMP:20260423T113349
CREATED:20220803T185514Z
LAST-MODIFIED:20220803T185514Z
UID:2045-1659812400-1659828600@thewattingers.uk
SUMMARY:Nowhere Inn\, Plymouth
DESCRIPTION:
URL:https://thewattingers.uk/gig/nowhere-inn-plymouth/
LOCATION:Nowhere Inn\, 21 Gilwell Street\, Plymouth\, Devon\, PL4 8BU\, United Kingdom
END:VEVENT
BEGIN:VEVENT
DTSTART;TZID=UTC:20220715T190000
DTEND;TZID=UTC:20220717T210000
DTSTAMP:20260423T113349
CREATED:20220610T153949Z
LAST-MODIFIED:20220610T154010Z
UID:2007-1657911600-1658091600@thewattingers.uk
SUMMARY:The Rustic Stomp
DESCRIPTION:
URL:https://thewattingers.uk/gig/the-rustic-stomp/
LOCATION:Pikes Farm\, Organford\, Poole\, United Kingdom
END:VEVENT
BEGIN:VEVENT
DTSTART;TZID=UTC:20220602T190000
DTEND;TZID=UTC:20220606T230000
DTSTAMP:20260423T113349
CREATED:20220420T123125Z
LAST-MODIFIED:20220420T123125Z
UID:2004-1654196400-1654556400@thewattingers.uk
SUMMARY:Blind Cat Resurrected (formerly Wingy Thingy)
DESCRIPTION:
URL:https://thewattingers.uk/gig/blind-cat-resurrected-formerly-wingy-thingy/
LOCATION:Tamworth
END:VEVENT
BEGIN:VEVENT
DTSTART;TZID=UTC:20220528T190000
DTEND;TZID=UTC:20220528T233000
DTSTAMP:20260423T113349
CREATED:20220420T122219Z
LAST-MODIFIED:20220420T122219Z
UID:2001-1653764400-1653780600@thewattingers.uk
SUMMARY:Steam Machine Brewing Company Steampunk Spectacular
DESCRIPTION:
URL:https://thewattingers.uk/gig/steam-machine-brewing-company-steampunk-spectacular/
LOCATION:Steam Machine Brewing Company\, Unit 26 Northfield Way\, Newton Aycliffe\, DL5 6UF\, United Kingdom
END:VEVENT
BEGIN:VEVENT
DTSTART;TZID=UTC:20220519T190000
DTEND;TZID=UTC:20220520T230000
DTSTAMP:20260423T113349
CREATED:20220210T180514Z
LAST-MODIFIED:20220212T150131Z
UID:326-1652986800-1653087600@thewattingers.uk
SUMMARY:Raising Steam
DESCRIPTION:
URL:https://thewattingers.uk/gig/raising-steam/
LOCATION:Stoke Prior Sports and Country Club\, Westonhall Road\, Stoke Prior\, B60 4AL\, United Kingdom
END:VEVENT
BEGIN:VEVENT
DTSTART;TZID=UTC:20220401T210000
DTEND;TZID=UTC:20220401T233000
DTSTAMP:20260423T113349
CREATED:20220204T171705Z
LAST-MODIFIED:20220204T171705Z
UID:83-1648846800-1648855800@thewattingers.uk
SUMMARY:The Wattingers
DESCRIPTION:
URL:https://thewattingers.uk/gig/the-wattingers/
LOCATION:Rock Bottom Bar\, Plymouth\, United Kingdom
END:VEVENT
BEGIN:VEVENT
DTSTART;TZID=UTC:20220219T190000
DTEND;TZID=UTC:20220219T230000
DTSTAMP:20260423T113349
CREATED:20220203T103508Z
LAST-MODIFIED:20220203T145904Z
UID:34-1645297200-1645311600@thewattingers.uk
SUMMARY:The Wattingers and Gurdybird
DESCRIPTION:
URL:https://thewattingers.uk/gig/the-wattingers-and-gurdybird/
LOCATION:Exeter Cavern\, Exeter\, United Kingdom
END:VEVENT
END:VCALENDAR