BEGIN:VCALENDAR
VERSION:2.0
PRODID:-//The Wattingers - ECPv6.15.11//NONSGML v1.0//EN
CALSCALE:GREGORIAN
METHOD:PUBLISH
X-WR-CALNAME:The Wattingers
X-ORIGINAL-URL:https://thewattingers.uk
X-WR-CALDESC:Events for The Wattingers
REFRESH-INTERVAL;VALUE=DURATION:PT1H
X-Robots-Tag:noindex
X-PUBLISHED-TTL:PT1H
BEGIN:VTIMEZONE
TZID:UTC
BEGIN:STANDARD
TZOFFSETFROM:+0000
TZOFFSETTO:+0000
TZNAME:UTC
DTSTART:20240101T000000
END:STANDARD
END:VTIMEZONE
BEGIN:VEVENT
DTSTART;TZID=UTC:20251115T200000
DTEND;TZID=UTC:20251115T233000
DTSTAMP:20260423T110421
CREATED:20251109T155710Z
LAST-MODIFIED:20251109T155710Z
UID:2290-1763236800-1763249400@thewattingers.uk
SUMMARY:Soapbox Theatre Gin and Music Night
DESCRIPTION:
URL:https://thewattingers.uk/gig/soapbox-theatre-gin-and-music-night/
LOCATION:Soapbox Theatre\, Devonport Park\, Exmouth Rd\, Plymouth\, Devon\, PL1 4HQ\, United Kingdom
END:VEVENT
BEGIN:VEVENT
DTSTART;TZID=UTC:20251129T200000
DTEND;TZID=UTC:20251129T233000
DTSTAMP:20260423T110421
CREATED:20251109T163524Z
LAST-MODIFIED:20251109T163524Z
UID:2293-1764446400-1764459000@thewattingers.uk
SUMMARY:In the Black MidVinter
DESCRIPTION:
URL:https://thewattingers.uk/gig/in-the-black-midvinter/
LOCATION:Samuel Worth Chapel\, The Gatehouse\, Cemetery Avenue\, Sheffield\, S11 8NT\, United Kingdom
END:VEVENT
END:VCALENDAR